BEGIN:VCALENDAR
VERSION:2.0
PRODID:-//hacksw/handcal//NONSGML v1.0//EN
BEGIN:VEVENT
DTSTAMP:20260529T000000Z
DTSTART:20260529T000000Z
DTEND:20260529T030000Z

SUMMARY:The Lovin' Spoonful
DESCRIPTION:
END:VEVENT
END:VCALENDAR