BEGIN:VCALENDAR
VERSION:2.0
PRODID:-//hacksw/handcal//NONSGML v1.0//EN
BEGIN:VEVENT
DTSTAMP:20260621T190000Z
DTSTART:20260621T190000Z
DTEND:20260621T220000Z

SUMMARY:Frozen presented by The Dance Company 
DESCRIPTION:
END:VEVENT
END:VCALENDAR