BEGIN:VCALENDAR
VERSION:2.0
PRODID:-//hacksw/handcal//NONSGML v1.0//EN
BEGIN:VEVENT
DTSTAMP:20260619T000000Z
DTSTART:20260619T000000Z
DTEND:20260619T030000Z

SUMMARY:Frozen presented by The Dance Company 
DESCRIPTION:
END:VEVENT
END:VCALENDAR