BEGIN:VCALENDAR
VERSION:2.0
PRODID:-//hacksw/handcal//NONSGML v1.0//EN
BEGIN:VEVENT
DTSTAMP:20260619T003000Z
DTSTART:20260619T003000Z
DTEND:20260619T033000Z

SUMMARY:Psychics vs. Science - Fact. Fraud. or Phenomenon?
DESCRIPTION:
END:VEVENT
END:VCALENDAR