BEGIN:VCALENDAR
VERSION:2.0
PRODID:-//hacksw/handcal//NONSGML v1.0//EN
BEGIN:VEVENT
DTSTAMP:20170101T030000Z
DTSTART:20170101T030000Z
DTEND:20170101T063000Z

SUMMARY:New Year’s Eve with Frank: Best of 2016
DESCRIPTION:Spend New Year’s Eve with Frank and his talented gang from Let Me Be Frank Productions at the Meyer Theater! A fun and crazy night with bits and skits from the 2016 shows.  Party favors and champagne included to help you ring in the New Year!  Included in the $160 package for 2: 3 course special NYE dinner for 22 tickets to New Year’s Eve with Frank: Best of 2016Party Favors for 2Champagne at intermissionMenu: Salad courseMixed greens with snow peas, almonds, scallion and carrots with a champagne vinaigrette. Main CourseDuet of tenderloin Au Poivre with a cognac cream and grilled shrimp skewer with an orange beurre blanc. Served on a bed of wild rice and fresh vegetables. Dessert CourseTiramisu and coffee 
END:VEVENT
END:VCALENDAR